BEGIN:VCALENDAR
VERSION:2.0
PRODID:-//復元・納棺 株式会社 桜 - ECPv5.9.1//NONSGML v1.0//EN
CALSCALE:GREGORIAN
METHOD:PUBLISH
X-WR-CALNAME:復元・納棺 株式会社 桜
X-ORIGINAL-URL:https://sakura-noukan.com
X-WR-CALDESC:復元・納棺 株式会社 桜 のイベント
BEGIN:VTIMEZONE
TZID:Asia/Tokyo
BEGIN:STANDARD
TZOFFSETFROM:+0900
TZOFFSETTO:+0900
TZNAME:JST
DTSTART:20180101T000000
END:STANDARD
END:VTIMEZONE
BEGIN:VEVENT
DTSTART;TZID=Asia/Tokyo:20180801T080000
DTEND;TZID=Asia/Tokyo:20180801T170000
DTSTAMP:20260424T192447
CREATED:20180306T001716Z
LAST-MODIFIED:20180306T001914Z
UID:1244-1533110400-1533142800@sakura-noukan.com
SUMMARY:講演会
DESCRIPTION:場所：神奈川県
URL:https://sakura-noukan.com/event/%e8%ac%9b%e6%bc%94%e4%bc%9a-25/
CATEGORIES:講演会
END:VEVENT
END:VCALENDAR