BEGIN:VCALENDAR
VERSION:2.0
PRODID:-//復元・納棺 株式会社 桜 - ECPv5.9.1//NONSGML v1.0//EN
CALSCALE:GREGORIAN
METHOD:PUBLISH
X-WR-CALNAME:復元・納棺 株式会社 桜
X-ORIGINAL-URL:https://sakura-noukan.com
X-WR-CALDESC:復元・納棺 株式会社 桜 のイベント
BEGIN:VTIMEZONE
TZID:Asia/Tokyo
BEGIN:STANDARD
TZOFFSETFROM:+0900
TZOFFSETTO:+0900
TZNAME:JST
DTSTART:20180101T000000
END:STANDARD
END:VTIMEZONE
BEGIN:VEVENT
DTSTART;TZID=Asia/Tokyo:20180822T080000
DTEND;TZID=Asia/Tokyo:20180822T170000
DTSTAMP:20260423T000106
CREATED:20180601T044610Z
LAST-MODIFIED:20180601T044610Z
UID:1333-1534924800-1534957200@sakura-noukan.com
SUMMARY:パネルディスカッション
DESCRIPTION:場所：東京
URL:https://sakura-noukan.com/event/%e3%83%91%e3%83%8d%e3%83%ab%e3%83%87%e3%82%a3%e3%82%b9%e3%82%ab%e3%83%83%e3%82%b7%e3%83%a7%e3%83%b3/
CATEGORIES:講演会
END:VEVENT
END:VCALENDAR