BEGIN:VCALENDAR
VERSION:2.0
PRODID:-//復元・納棺 株式会社 桜 - ECPv5.9.1//NONSGML v1.0//EN
CALSCALE:GREGORIAN
METHOD:PUBLISH
X-WR-CALNAME:復元・納棺 株式会社 桜
X-ORIGINAL-URL:https://sakura-noukan.com
X-WR-CALDESC:復元・納棺 株式会社 桜 のイベント
BEGIN:VTIMEZONE
TZID:Asia/Tokyo
BEGIN:STANDARD
TZOFFSETFROM:+0900
TZOFFSETTO:+0900
TZNAME:JST
DTSTART:20180101T000000
END:STANDARD
END:VTIMEZONE
BEGIN:VEVENT
DTSTART;VALUE=DATE:20181002
DTEND;VALUE=DATE:20181003
DTSTAMP:20260422T202701
CREATED:20180323T081502Z
LAST-MODIFIED:20180323T081502Z
UID:1264-1538438400-1538524799@sakura-noukan.com
SUMMARY:講演
DESCRIPTION:場所：鳥取県
URL:https://sakura-noukan.com/event/%e8%ac%9b%e6%bc%94-8/
CATEGORIES:講演会
END:VEVENT
END:VCALENDAR